Workbook

Sheet Datos
C3: ESTADO DE SITUACION FINANCIERA DEL FIDEICOMISO
C4: PARA EL CUIDADO DEL AGUA DEL MUNICIPIO DE CHIHUAHUA
D5: ACUMULADO ANUAL 2019
D6: (pesos)
A8: CTA CONTABLE | B8: ACTIVO | C8: ENERO | D8: FEBRERO | E8: MARZO | F8: ABRIL | G8: MAYO | H8: JUNIO | I8: JULIO | J8: AGOSTO | K8: SEPTIEMBRE | L8: OCTUBRE | M8: NOVIEMBRE | N8: DICIEMBRE | O8: DATOS
A10: 1112 | B10: BANCO | C10: 9033931.4 | D10: 9077609.4 | E10: 9127507.4 | F10: 9175778.7 | G10: 9226220.3 | H10: 9274998.3 | I10: 9326110.5 | J10: 10408099 | K10: 7439769.7 | L10: 0 | M10: 0 | N10: 0 | O10: =+K10 -> 7439769.7
A11: 1120 | B11: DEUDORES DIVERSOS | C11: 0 | D11: 0 | E11: 0 | F11: 0 | G11: 0 | H11: 0 | I11: 0 | J11: 0 | K11: 3000000 | L11: 0 | M11: 0 | N11: 0 | O11: =+K11 -> 3000000
B13: TOTAL ACTIVO | C13: =SUM(C10:C12) -> 9033931.4 | D13: =SUM(D10:D12) -> 9077609.4 | E13: =SUM(E10:E12) -> 9127507.4 | F13: =SUM(F10:F12) -> 9175778.7 | G13: =SUM(G10:G12) -> 9226220.3 | H13: =SUM(H10:H12) -> 9274998.3 | I13: =SUM(I10:I12) -> 9326110.5 | J13: =SUM(J10:J12) -> 10408099 | ... O13: =SUM(O10:O12) -> 10439770
B15: PASIVO
A16: 2115 | B16: FIDEICOMITENTES | C16: 9000000 | D16: 9000000 | E16: 9000000 | F16: 9000000 | G16: 9000000 | H16: 9000000 | I16: 9000000 | J16: 10000000 | K16: 10000000 | L16: 0 | M16: 0 | N16: 0 | O16: 10000000
B18: PATRIMONIO
A19: 3107 | B19: RESULTADO DE OPERACION | C19: =+C29 -> 33931.38 | D19: =+D29 -> 77609.36 | E19: =+E29 -> 127507.36 | F19: =+F29 -> 175778.72 | G19: =+G29 -> 226220.27 | H19: =+H29 -> 274998.31 | I19: =+I29 -> 326110.49 | J19: =+J29 -> 408098.91 | ... N19: =+N29 -> 0 | O19: =+K19 -> 439769.65
B21: TOTAL PASIVO MAS PATRIMONIO | C21: =+C16+C19 -> 9033931.4 | D21: =+D16+D19 -> 9077609.4 | E21: =+E16+E19 -> 9127507.4 | F21: =+F16+F19 -> 9175778.7 | G21: =+G16+G19 -> 9226220.3 | H21: =+H16+H19 -> 9274998.3 | I21: =+I16+I19 -> 9326110.5 | J21: =+J16+J19 -> 10408099 | ... O21: =+O16+O19 -> 10439770
B23: ACTIVIDADES
B24: Ingresos
A25: 4311 | B25: Rendimientos Financieros | C25: 41177.41 | D25: 89209.36 | E25: 139107.36 | F25: 187378.72 | G25: 237820.27 | H25: 286598.31 | I25: 337710.49 | J25: 408098.91 | K25: 462969.65 | L25: 0 | M25: 0 | N25: 0
B27: Egresos | O27: =SUM(C32:K32) -> 539815.68
A28: 5134 | B28: Honorarios Fiduciario | C28: 7246.03 | D28: 11600 | E28: 11600 | F28: 11600 | G28: 11600 | H28: 11600 | I28: 11600 | J28: 0 | K28: 23200 | L28: 0 | M28: 0 | N28: 0 | O28: =SUM(C28:N28) -> 100046.03
B29: RESULTADO DE OPERACION | C29: =+C25-C28 -> 33931.38 | D29: =+D25-D28 -> 77609.36 | E29: =+E25-E28 -> 127507.36 | F29: =+F25-F28 -> 175778.72 | G29: =+G25-G28 -> 226220.27 | H29: =+H25-H28 -> 274998.31 | I29: =+I25-I28 -> 326110.49 | J29: =+J25-J28 -> 408098.91 | ... N29: =+N25-N28 -> 0
B31: COMPROBACION | C31: =+C13-C21 -> 0 | D31: =+D13-D21 -> 0 | E31: =+E13-E21 -> 0 | F31: =+F13-F21 -> 0 | G31: =+G13-G21 -> 0 | H31: =+H13-H21 -> 0 | I31: =+I13-I21 -> 0 | J31: =+J13-J21 -> 0 | ... O31: =+O13-O21 -> 0
C32: 41177.41 | D32: =+D25-C29 -> 55277.98 | E32: =+E25-D29 -> 61498 | F32: =+F25-E29 -> 59871.36 | G32: =+G25-F29 -> 62041.55 | H32: =+H25-G29 -> 60378.04 | I32: =+I25-H29 -> 62712.18 | J32: =+J25-I29 -> 81988.42 | K32: =+K25-J29 -> 54870.74 | L32: =+L29-K29 -> -439769.65 | M32: =+M25-L32 -> 439769.65 | N32: =+N25-M32 -> -439769.65 | O32: =+O27-O28 -> 439769.65
J34: 1

Sheet Asientos Contables
B1: Poliza con Documentacion Comprobatoria Original
B2: 1 | D2: CARGO | F2: ABONO
A3: FECHA | B3: CONCEPTO | C3: CUENTA | D3: IMPORTE | F3: IMPORTE
A4: 43467 | B4: RECURSOS DEL FIDEICOMITENTE MPIO CHIHUAHUA | C4: BANCO | D4: 9000000
B5: CTA BANCO XXXXXX | C5: FIDEICOMITENTES | F5: =+D4 -> 9000000
B8: 2 | D8: CARGO | F8: ABONO
A9: FECHA | B9: CONCEPTO | C9: CUENTA | D9: IMPORTE | F9: IMPORTE
A10: 43496 | B10: RENDIMIENTOS FINANCIEROS OBTENIDOS | C10: BANCO | D10: 41177.41
B11: EN EL MES DE ENERO 2019 CTA XXXXXX | C11: RENDIMIENTOS FIN | F11: =+D10 -> 41177.41
B14: 3 | D14: CARGO | F14: ABONO
A15: FECHA | B15: CONCEPTO | C15: CUENTA | D15: IMPORTE | F15: IMPORTE
A16: 43496 | B16: HONORARIOS A FIDUCIARIO | C16: HONORARIOS | D16: 7246.03
B17: EN EL MES DE ENERO 2019 CTA XXXXXX | C17: BANCO | F17: =+D16 -> 7246.03
B20: 4 | D20: CARGO | F20: ABONO
A21: FECHA | B21: CONCEPTO | C21: CUENTA | D21: IMPORTE | F21: IMPORTE
B22: RECURSOS DEL FIDEICOMITENTE MPIO CHIHUAHUA | C22: BANCO | D22: 0
B23: CTA BANCO XXXXXX | C23: FIDEICOMITENTES | F23: 0
B26: 5 | D26: CARGO | F26: ABONO
A27: FECHA | B27: CONCEPTO | C27: CUENTA | D27: IMPORTE | F27: IMPORTE
B28: RENDIMIENTOS FINANCIEROS OBTENIDOS | C28: BANCO | D28: =+Datos!D25 -> 89209.36
B29: EN EL MES DE ENERO 2019 CTA XXXXXX | C29: RENDIMIENTOS FIN | F29: =+D28 -> 89209.36
B32: 6 | D32: CARGO | F32: ABONO
A33: FECHA | B33: CONCEPTO | C33: CUENTA | D33: IMPORTE | F33: IMPORTE
B34: HONORARIOS A FIDUCIARIO | C34: HONORARIOS | D34: =+Datos!D28 -> 11600
B35: EN EL MES DE ENERO 2019 CTA XXXXXX | C35: BANCO | F35: =+D34 -> 11600
A40: "Bajo protesta de decir verdad declaramos que los estados financieros y sus notas son razonablemente correctos y son reponsabilidad del emisor"

Sheet Saldos Ctas
C1: tomados de las POLIZAS
C2: en este caso los tome de los DATOS
C6: BANCO | G6: DEUDORES DIVERSOS | J6: FIDEICOMITENTES
B7: 1) | C7: =+'Asientos Contables'!D4 -> 9000000 | D7: =+'Asientos Contables'!F17 -> 7246.03 | E7: (3 | G7: 3000000 | K7: =+'Asientos Contables'!F5 -> 9000000 | L7: (1
B8: 2) | C8: =+Datos!C32 -> 41177.41 | D8: =+Datos!D28 -> 11600 | K8: 1000000
C9: =+Datos!D32 -> 55277.98 | D9: =+Datos!E28 -> 11600
C10: =+Datos!E32 -> 61498 | D10: =+Datos!F28 -> 11600
C11: =+Datos!F32 -> 59871.36 | D11: =+Datos!G28 -> 11600
C12: =+Datos!G32 -> 62041.55 | D12: =+Datos!H28 -> 11600
C13: =+Datos!H32 -> 60378.04 | D13: =+Datos!I28 -> 11600
C14: =+Datos!I32 -> 62712.18 | D14: =+Datos!J28 -> 0
C15: =+Datos!J32 -> 81988.42 | D15: =+Datos!K28 -> 23200
C16: =+Datos!K32 -> 54870.74 | D16: 3000000
C17: 1000000
C21: =SUM(C7:C20) -> 10539816 | D21: =SUM(D7:D20) -> 3100046 | G21: =SUM(G7:G20) -> 3000000 | H21: =SUM(H7:H20) -> 0 | J21: =SUM(J7:J20) -> 0 | K21: =SUM(K7:K20) -> 10000000 | L21: (S
B22: S) | C22: =+C21-D21 -> 7439769.7 | F22: S) | G22: =+G21-H21 -> 3000000 | H22: =+H21-I21 -> 0
C26: INGRESOS | G26: EGRESOS | J26: AL FINAL DEL MES
C27: Rendimientos Financieros | G27: honorarios Fiduciario | J27: Resultado de Operacion
D28: =+'Asientos Contables'!F11 -> 41177.41 | E28: (2 | F28: 3) | G28: =+'Asientos Contables'!D16 -> 7246.03 | J28: =+G45 -> 100046.03 | K28: =+D45 -> 539815.68
D29: =+C9 -> 55277.98 | G29: =+D8 -> 11600
D30: =+C10 -> 61498 | G30: =+D9 -> 11600
D31: =+C11 -> 59871.36 | G31: =+D10 -> 11600
D32: =+C12 -> 62041.55 | G32: =+D11 -> 11600
D33: =+C13 -> 60378.04 | G33: =+D12 -> 11600
D34: =+C14 -> 62712.18 | G34: =+D13 -> 11600
D35: =+C15 -> 81988.42 | G35: =+D14 -> 0
D36: =+C16 -> 54870.74 | G36: =+D15 -> 23200
J44: =+G45 -> 100046.03 | K44: =SUM(K27:K43) -> 539815.68
C45: =SUM(C28:C44) -> 0 | D45: =SUM(D28:D44) -> 539815.68 | E45: (S | F45: S) | G45: =SUM(G28:G44) -> 100046.03 | H45: =SUM(H28:H44) -> 0 | K45: =+K44-J44 -> 439769.65 | L45: (S
A48: "Bajo protesta de decir verdad declaramos que los estados financieros y sus notas son razonablemente correctos y son reponsabilidad del emisor"

Sheet Actividades
A1: FIDEICOMISO PARA EL CUIDADO DEL AGUA DEL MUNICIPIO DE CHIHUAHUA
A2: Estado de Actividades
A3: Periodo 2018 y Del 1 de Enero al 30 de Septiembre de 2019
F4: 2018 | G4: 43738
A5: INGRESOS Y OTROS BENEFICIOS
A6: Ingresos de Gestión
B7: Impuestos
B8: Cuotas y Aportaciones de Seguridad Social
B9: Contribuciones de Mejoras
B10: Derechos
B11: Productos
B12: Aprovechamientos
B13: Ingresos por Venta de Bienes y Prestación de Servicios
A14: Participaciones, Aportaciones, Convenios, Incentivos Derivados de la Colaboración Fiscal, Fondos Distintos de Aportaciones, Transferencias, Asignaciones, Subsidios y Subvenciones, y Pensiones y Jubilaciones
B15: Participaciones, Aportaciones, Convenios, Incentivos Derivados de la Colaboración Fiscal y Fondos Distintos de Aportaciones
B16: Transferencias, Asignaciones, Subsidios y Subvenciones, y Pensiones y Jubilaciones
A17: Otros Ingresos y Beneficios
B18: Ingresos Financieros | G18: =+Datos!O27 -> 539815.68
B19: Incremento por Variación de Inventarios
B20: Disminución del Exceso de Estimaciones por Pérdida o Deterioro u Obsolescencia
B21: Disminución del Exceso de Provisiones
B22: Otros Ingresos y Beneficios Varios
A24: Total de Ingresos y Otros Beneficios | G24: =SUM(G18:G23) -> 539815.68
A26: GASTOS Y OTRAS PÉRDIDAS
A27: Gastos de Funcionamiento | G27: =SUM(G28:G30) -> 100046.03
B28: Servicios Personales | G28: =+'Saldos Ctas'!G45 -> 100046.03
B29: Materiales y Suministros
B30: Servicios Generales
A31: Transferencias, Asignaciones, Subsidios y Otras Ayudas | G31: =SUM(G32:G40) -> 0
B32: Transferencias Internas y Asignaciones al Sector Público
B33: Transferencias al Resto del Sector Público
B34: Subsidios y Subvenciones
B35: Ayudas Sociales
B36: Pensiones y Jubilaciones
B37: Transferencias a Fideicomisos, Mandatos y Contratos Análogos
B38: Transferencias a la Seguridad Social
B39: Donativos
B40: Transferencias al Exterior
A41: Participaciones y Aportaciones | G41: =SUM(G42:G44) -> 0
B42: Participaciones
...

Sheet Situacion Financiera
A1: FIDEICOMISO PARA EL CUIDADO DEL AGUA DEL MUNICIPIO DE CHIHUAHUA
A2: Estado de Situación Financiera
A3: 2018 y al 30 de Septiembre de 2019
B4: 2018 | C4: 43738 | F4: 43465 | G4: 43738
A5: ACTIVO | E5: PASIVO
A7: Activo Circulante | E7: Pasivo Circulante
A8: Efectivo y Equivalentes | C8: =+Datos!O10 -> 7439769.7 | E8: Cuentas por Pagar a Corto Plazo
A9: Derechos a Recibir Efectivo o Equivalentes | C9: =+Datos!O11 -> 3000000 | E9: Documentos por Pagar a Corto Plazo
A10: Derechos a Recibir Bienes o Servicios | E10: Porción a Corto Plazo de la Deuda Pública a Largo Plazo
A11: Inventarios | E11: Títulos y Valores a Corto Plazo
A12: Almacenes | E12: Pasivos Diferidos a Corto Plazo
A13: Estimación por Pérdida o Deterioro de Activos Circulantes | E13: Fondos y Bienes de Terceros en Garantía y/o Administración a Corto Plazo
A14: Otros Activos Circulantes | E14: Provisiones a Corto Plazo
E15: Otros Pasivos a Corto Plazo | G15: =+Datos!O16 -> 10000000
A16: Total de Activos Circulantes | B16: =SUM(B8:B15) -> 0 | C16: =SUM(C8:C15) -> 10439770
E17: Total de Pasivos Circulantes | F17: =SUM(F8:F15) -> 0 | G17: =SUM(G8:G15) -> 10000000
A18: Activo No Circulante
A19: Inversiones Financieras a Largo Plazo | E19: Pasivo No Circulante
A20: Derechos a Recibir Efectivo o Equivalentes a Largo Plazo | E20: Cuentas por Pagar a Largo Plazo
A21: Bienes Inmuebles, Infraestructura y Construcciones en Proceso | E21: Documentos por Pagar a Largo Plazo
A22: Bienes Muebles | E22: Deuda Pública a Largo Plazo
A23: Activos Intangibles | E23: Pasivos Diferidos a Largo Plazo
A24: Depreciación, Deterioro y Amortización Acumulada de Bienes | E24: Fondos y Bienes de Terceros en Garantía y/o en Administración a Largo Plazo
A25: Activos Diferidos | E25: Provisiones a Largo Plazo
A26: Estimación por Pérdida o Deterioro de Activos no Circulantes
E27: Total de Pasivos No Circulantes | F27: =SUM(F20:F26) -> 0 | G27: =SUM(G20:G26) -> 0
A28: Otros Activos no Circulantes
E29: Total del Pasivo | F29: =+F27+F17 -> 0 | G29: =+G27+G17 -> 10000000
A30: Total de Activos No Circulantes | B30: =SUM(B19:B29) -> 0 | C30: =SUM(C19:C29) -> 0
E31: HACIENDA PÚBLICA/PATRIMONIO
A32: Total del Activo | B32: =+B30+B16 -> 0 | C32: =+C30+C16 -> 10439770
E33: Hacienda Pública/Patrimonio Contribuido
E34: Aportaciones
E35: Donaciones de Capital
E36: Actualización de la Hacienda Pública/Patrimonio
E38: Hacienda Pública/Patrimonio Generado
E39: Resultados del Ejercicio (Ahorro/ Desahorro) | G39: =+Actividades!G63 -> 439769.65
E40: Resultados de Ejercicios Anteriores
E41: Revalúos
E42: Reservas
...

Sheet Variacion en H.P
A1: FIDEICOMISO PARA EL CUIDADO DEL AGUA DEL MUNICIPIO DE CHIHUAHUA
A2: Estado de Variación en la Hacienda Pública
A3: 2018 y del 1 de Enero al 30 de Septiembre de 2019
A4: Concepto | B4: Hacienda Pública / Patrimonio Contribuido | C4: Hacienda Pública / Patrimonio Generado de Ejercicios Anteriores | D4: Hacienda Pública / Patrimonio Generado del Ejercicio | E4: Exceso o Insuficiencia en la Actualización de la Hacienda Pública / Patrimonio | F4: Total
A6: Hacienda Pública / Patrimonio Contribuido Neto de 2018 | B6: =SUM(B7:B9) -> 0 | F6: =SUM(B6:E6) -> 0
A7: Aportaciones | F7: =SUM(B7:E7) -> 0
A8: Donaciones de Capital | F8: =SUM(B8:E8) -> 0
A9: Actualización de la Hacienda Pública/Patrimonio | F9: =SUM(B9:E9) -> 0
F10: =SUM(B10:E10) -> 0
A11: Hacienda Pública / Patrimonio Generado Neto de 2018 | C11: =SUM(C12:C16) -> 0 | D11: =+D12 -> 0 | F11: =SUM(B11:E11) -> 0
A12: Resultados del Ejercicio (Ahorro/Desahorro) | C12: 0 | D12: 0 | F12: =SUM(B12:E12) -> 0
A13: Resultados de Ejercicios Anteriores | F13: =SUM(B13:E13) -> 0
A14: Revalúos | F14: =SUM(B14:E14) -> 0
A15: Reservas | F15: =SUM(B15:E15) -> 0
A16: Rectificaciones de Resultados de Ejercicios Anteriores | F16: =SUM(B16:E16) -> 0
A18: Exceso o Insuficiencia en la Actualización de la Hacienda Pública / Patrimonio Neto de 2018 | E18: =+E19+E20 -> 0 | F18: =SUM(B18:E18) -> 0
A19: Resultado por Posición Monetaria | F19: =SUM(B19:E19) -> 0
A20: Resultado por Tenencia de Activos no Monetarios | F20: =SUM(B20:E20) -> 0
A22: Hacienda Pública / Patrimonio Neto Final de 2018 | B22: =+B6 -> 0 | C22: =+C11 -> 0 | D22: =+D11 -> 0 | E22: =+E18 -> 0 | F22: =SUM(B22:E22) -> 0
A24: Cambios en la Hacienda Pública / Patrimonio Contribuido Neto de 30/09/2019 | B24: =SUM(B25:B27) -> 0 | F24: =SUM(B24:E24) -> 0
A25: Aportaciones | F25: =SUM(B25:E25) -> 0
A26: Donaciones de Capital | F26: =SUM(B26:E26) -> 0
A27: Actualización de la Hacienda Pública/Patrimonio | F27: =SUM(B27:E27) -> 0
A29: Variaciones de la Hacienda Pública / Patrimonio Generado Neto de 30/09/2019 | C29: =+C31 -> 0 | D29: =SUM(D30:D34) -> 439769.65 | F29: =SUM(B29:E29) -> 439769.65
A30: Resultados del Ejercicio (Ahorro/Desahorro) | D30: =+Actividades!G63 -> 439769.65 | F30: =SUM(B30:E30) -> 439769.65
A31: Resultados de Ejercicios Anteriores | D31: 0 | F31: =SUM(B31:E31) -> 0
A32: Revalúos | F32: =SUM(B32:E32) -> 0
A33: Reservas | F33: =SUM(B33:E33) -> 0
A34: Rectificaciones de Resultados de Ejercicios Anteriores | F34: =SUM(B34:E34) -> 0
A36: Cambios en el Exceso o Insuficiencia en la Actualización de la Hacienda Pública / Patrimonio Neto de 30/09/2019 | E36: =+E37+E38 -> 0 | F36: =SUM(B36:E36) -> 0
A37: Resultado por Posición Monetaria | F37: =SUM(B37:E37) -> 0
A38: Resultado por Tenencia de Activos no Monetarios | F38: =SUM(B38:E38) -> 0
A40: Hacienda Pública / Patrimonio Neto Final de 30/09/2019 | B40: =+B22+B24 -> 0 | C40: =+C22+C29 -> 0 | D40: =+D22+D29 -> 439769.65 | E40: =+E22+E36 -> 0 | F40: =SUM(B40:E40) -> 439769.65
A43: "Bajo protesta de decir verdad declaramos que los estados financieros y sus notas son razonablemente correctos y son reponsabilidad del emisor"

Sheet Cambios en S.F
A1: Estado de Cambios en la Situación Financiera
A2: Estado de Cambios en la Situación Financiera
A3: Del 1 al 30 de Septiembre de 2019
B4: Origen | C4: Aplicación
A5: ACTIVO
A6: Activo Circulante | B6: =SUM(B7:B13) -> 0 | C6: =SUM(C7:C13) -> 10439770
A7: Efectivo y Equivalentes | C7: =+'Saldos Ctas'!C22 -> 7439769.7
A8: Derechos a Recibir Efectivo o Equivalentes | C8: =+'Saldos Ctas'!G21 -> 3000000
A9: Derechos a Recibir Bienes o Servicios
A10: Inventarios
A11: Almacenes
A12: Estimación por Pérdida o Deterioro de Activos Circulantes
A13: Otros Activos Circulantes
A15: Activo No Circulante | B15: =SUM(B16:B24) -> 0 | C15: =SUM(C16:C24) -> 0
A16: Inversiones Financieras a Largo Plazo
A17: Derechos a Recibir Efectivo o Equivalentes a Largo Plazo
A18: Bienes Inmuebles, Infraestructura y Construcciones en Proceso
A19: Bienes Muebles
A20: Activos Intangibles
A21: Depreciación, Deterioro y Amortización Acumulada de Bienes
A22: Activos Diferidos
A23: Estimación por Pérdida o Deterioro de Activos no Circulantes
A24: Otros Activos no Circulantes
A26: PASIVO
A27: Pasivo Circulante | B27: =SUM(B28:B35) -> 10000000 | C27: =SUM(C28:C35) -> 0
A28: Cuentas por Pagar a Corto Plazo
A29: Documentos por Pagar a Corto Plazo | B29: 10000000
A30: Porción a Corto Plazo de la Deuda Pública a Largo Plazo
A31: Títulos y Valores a Corto Plazo
A32: Pasivos Diferidos a Corto Plazo
A33: Fondos y Bienes de Terceros en Garantía y/o Administración a Corto Plazo
A34: Provisiones a Corto Plazo
A35: Otros Pasivos a Corto Plazo
A37: Pasivo No Circulante | B37: =SUM(B38:B43) -> 0 | C37: =SUM(C38:C43) -> 0
A38: Cuentas por Pagar a Largo Plazo
A39: Documentos por Pagar a Largo Plazo
A40: Deuda Pública a Largo Plazo
A41: Pasivos Diferidos a Largo Plazo
A42: Fondos y Bienes de Terceros en Garantía y/o en Administración a Largo Plazo
A43: Provisiones a Largo Plazo
...

Sheet Flujos de E.
A1: Nombre del Ente Público
A2: Estado de Flujos de Efectivo
A3: 2018 y del 1 de Enero al 30 de Septiembre de 2019
A4: Concepto | D4: 43738 | E4: 2018
A6: Flujos de Efectivo de las Actividades de Operación
B7: Origen | D7: =SUM(D8:D17) -> 539815.68 | E7: =SUM(E8:E17) -> 0
C8: Impuestos
C9: Cuotas y Aportaciones de Seguridad Social
C10: Contribuciones de Mejoras
C11: Derechos
C12: Productos
C13: Aprovechamientos
C14: Ingresos por Venta de Bienes y Prestación de Servicios
C15: Participaciones, Aportaciones, Convenios, Incentivos Derivados de la Colaboración Fiscal y Fondos Distintos de Aportaciones
C16: Transferencias, Asignaciones, Subsidios y Subvenciones, y Pensiones y Jubilaciones
C17: Otros Orígenes de Operación | D17: =+'Saldos Ctas'!D45 -> 539815.68
B18: Aplicación | D18: =SUM(D19:D34) -> 100046.03 | E18: =SUM(E19:E34) -> 0
C19: Servicios Personales | D19: =+'Saldos Ctas'!G45 -> 100046.03
C20: Materiales y Suministros
C21: Servicios Generales
C22: Transferencias Internas y Asignaciones al Sector Público
C23: Transferencias al resto del Sector Público
C24: Subsidios y Subvenciones
C25: Ayudas Sociales
C26: Pensiones y Jubilaciones
C27: Transferencias a Fideicomisos, Mandatos y Contratos Análogos
C28: Transferencias a la Seguridad Social
C29: Donativos
C30: Transferencias al Exterior
C31: Participaciones
... C34: Otras Aplicaciones de Operación
A35: Flujos Netos de Efectivo por Actividades de Operación | D35: =+D17-D19 -> 439769.65
A37: Flujos de Efectivo de las Actividades de Inversión
B38: Origen | D38: =SUM(D39:D41) -> 0 | E38: =SUM(E39:E41) -> 0
C39: Bienes Inmuebles, Infraestructura y Construcciones en Proceso
C40: Bienes Muebles
C41: Otros Orígenes de Inversión
B42: Aplicación | D42: =SUM(D43:D45) -> 0 | E42: =SUM(E43:E45) -> 0
C43: Bienes Inmuebles, Infraestructura y Construcciones en Proceso
C44: Bienes Muebles
...

Sheet Analitico Activo
A1: FIDEICOMISO PARA EL CUIDADO DEL AGUA EN EL MUNICIPIO DE CHIHUAHUA
A2: Estado Analítico del Activo
A3: Del 1 de Enero al 30 de Septiembre de 2019
A4: Concepto | C4: Saldo Inicial 1 | D4: Cargos del Periodo 2 | E4: Abonos del Periodo 3 | F4: Saldo Final | G4: Variación del Periodo
F5: 4 (1+2-3) | G5: (4-1)
A7: ACTIVO
B9: Activo Circulante | C9: =SUM(C10:C11) -> 0 | D9: =SUM(D10:D11) -> 13539816 | E9: =SUM(E10:E11) -> 3100046 | F9: =SUM(F10:F11) -> 10439770 | G9: =SUM(G10:G11) -> 10439770
B10: Efectivo y Equivalentes | C10: 0 | D10: =+'Saldos Ctas'!C21 -> 10539816 | E10: =+'Saldos Ctas'!D21 -> 3100046 | F10: =+C10+D10-E10 -> 7439769.7 | G10: =+F10-C10 -> 7439769.7
B11: Derechos a Recibir Efectivo o Equivalentes | C11: 0 | D11: =+'Saldos Ctas'!G21 -> 3000000 | E11: =+'Saldos Ctas'!H21 -> 0 | F11: =+C11+D11-E11 -> 3000000 | G11: =+F11-C11 -> 3000000
B12: Derechos a Recibir Bienes o Servicios
B13: Inventarios
B14: Almacenes
B15: Estimación por Pérdida o Deterioro de Activos Circulantes
B16: Otros Activos Circulantes
B18: Activo No Circulante | C18: =SUM(C19:C27) -> 0 | D18: =SUM(D19:D27) -> 0 | E18: =SUM(E19:E27) -> 0 | F18: =SUM(F19:F27) -> 0 | G18: =SUM(G19:G27) -> 0
B19: Inversiones Financieras a Largo Plazo
B20: Derechos a Recibir Efectivo o Equivalentes a Largo Plazo
B21: Bienes Inmuebles, Infraestructura y Construcciones en Proceso
B22: Bienes Muebles
B23: Activos Intangibles
B24: Depreciación, Deterioro y Amortización Acumulada de Bienes
B25: Activos Diferidos
B26: Estimación por Pérdida o Deterioro de Activos no Circulantes
B27: Otros Activos no Circulantes
A31: "Bajo protesta de decir verdad declaramos que los estados financieros y sus notas son razonablemente correctos y son reponsabilidad del emisor"

Sheet Analitico Ingresos
A1: =+'Analitico Activo'!A1:G1 -> FIDEICOMISO PARA EL CUIDADO DEL AGUA EN EL MUNICIPIO DE CHIHUAHUA
A2: Estado Analítico de Ingresos
A3: =+'Analitico Activo'!A3:G3 -> Del 1 de Enero al 30 de Septiembre de 2019
A4: Rubro de Ingresos | D4: Ingreso | I4: Diferencia
D5: Estimado | E5: Ampliaciones y Reducciones | F5: Modificado | G5: Devengado | H5: Recaudado
D6: -1 | E6: -2 | F6: (3= 1 + 2) | G6: -4 | H6: -5 | I6: (6= 5 - 1 )
A7: Impuestos
A8: Cuotas y Aportaciones de Seguridad Social
A9: Contribuciones de Mejoras
A10: Derechos
A11: Productos | G11: =+'Saldos Ctas'!D45 -> 539815.68 | H11: =+G11 -> 539815.68 | I11: =+H11-D11 -> 539815.68
A12: Aprovechamientos
A13: Ingresos por Venta de Bienes, Prestación de Servicios y Otros Ingresos
A14: Participaciones, Aportaciones, Convenios, Incentivos Derivados de la Colaboración Fiscal y Fondos Distintos de Aportaciones
A15: Transferencias, Asignaciones, Subsidios y Subvenciones, y Pensiones y Jubilaciones | D15: 9000000 | E15: 1000000 | F15: =+E15+D15 -> 10000000 | G15: 3000000 | H15: 3000000 | I15: =+H15-D15 -> -6000000
A16: Ingresos Derivados de Financiamientos
C18: Total | D18: =SUM(D7:D17) -> 9000000 | F18: =SUM(F7:F17) -> 10000000 | G18: =SUM(G7:G17) -> 3539815.7 | H18: =SUM(H7:H17) -> 3539815.7 | I18: =SUM(I7:I17) -> -5460184.3
A20: Estado Analítico de Ingresos Por Fuente de Financiamiento | D20: Ingreso | I20: Diferencia
D21: Estimado | E21: Ampliaciones y Reducciones | F21: Modificado | G21: Devengado | H21: Recaudado
D22: -1 | E22: -2 | F22: (3= 1 + 2) | G22: -4 | H22: -5 | I22: (6= 5 - 1 )
A23: Ingresos del Poder Ejecutivo Federal o Estatal y de los Municipios
B24: Impuestos
B25: Cuotas y Aportaciones de Seguridad Social
B26: Contribuciones de Mejoras
B27: Derechos
B30: Participaciones, Aportaciones, Convenios, Incentivos Derivados de la Colaboración Fiscal y Fondos Distintos de Aportaciones
B31: Transferencias, Asignaciones, Subsidios y Subvenciones, y Pensiones y Jubilaciones | D31: 9000000 | E31: 1000000 | F31: =+E31+D31 -> 10000000 | G31: 3000000 | H31: 3000000 | I31: =+H31-D31 -> -6000000
A33: Ingresos de los Entes Públicos de los Poderes Legislativo y Judicial, de los Órganos Autónomos y del Sector Paraestatal o Paramunicipal, así como de las Empresas Productivas del Estado
B34: Cuotas y Aportaciones de Seguridad Social
B35: Productos1
B37: Transferencias, Asignaciones, Subsidios y Subvenciones, y Pensiones y Jubilaciones
A39: Ingresos Derivados de Financiamientos
B40: Ingresos Derivados de Financiamientos
C42: Total | D42: =SUM(D23:D41) -> 9000000 | E42: =SUM(E23:E41) -> 1000000 | F42: =SUM(F23:F41) -> 10000000 | G42: =SUM(G23:G41) -> 3000000 | H42: =SUM(H23:H41) -> 3000000 | I42: =SUM(I23:I41) -> -6000000
A46: "Bajo protesta de decir verdad declaramos que los estados financieros y sus notas son razonablemente correctos y son reponsabilidad del emisor"

Sheet Clasif. Objeto del G.
A1: FIDEICOMISO PARA EL CUIDADO DEL AGUA EN EL MUNICIPIO DE CHIHUAHUA
A2: Estado Analítico del Ejercicio del Presupuesto de Egresos
A3: Clasificación por Objeto del Gasto (Capítulo y Concepto)
A4: Del 1 de Enero al 30 de Septiembre de 2019
A5: Concepto | C5: Egresos | H5: Subejercicio
C6: Aprobado | D6: Ampliaciones/ (Reducciones) | E6: Modificado | F6: Devengado | G6: Pagado
C7: 1 | D7: 2 | E7: 3 = (1 + 2 ) | F7: 4 | G7: 5 | H7: 6 = ( 3 - 4 )
A8: Servicios Personales
B9: Remuneraciones al Personal de Carácter Permanente
B10: Remuneraciones al Personal de Carácter Transitorio | C10: 0 | D10: 0 | E10: =+C10+D10 -> 0 | F10: =+'Saldos Ctas'!G45 -> 100046.03 | G10: =+F10 -> 100046.03 | H10: =+E10-F10 -> -100046.03
B11: Remuneraciones Adicionales y Especiales
B12: Seguridad Social
B13: Otras Prestaciones Sociales y Económicas
B14: Previsiones
B15: Pago de Estímulos a Servidores Públicos
A16: Materiales y Suministros
B17: Materiales de Administración, Emisión de Documentos y Artículos Oficiales
B18: Alimentos y Utensilios
B19: Materias Primas y Materiales de Producción y Comercialización
B20: Materiales y Artículos de Construcción y de Reparación
B21: Productos Químicos, Farmacéuticos y de Laboratorio
B22: Combustibles, Lubricantes y Aditivos
B23: Vestuario, Blancos, Prendas de Protección y Artículos Deportivos
B24: Materiales y Suministros Para Seguridad
B25: Herramientas, Refacciones y Accesorios Menores
A26: Servicios Generales
B27: Servicios Básicos
B28: Servicios de Arrendamiento
B29: Servicios Profesionales, Científicos, Técnicos y Otros Servicios
B30: Servicios Financieros, Bancarios y Comerciales
B31: Servicios de Instalación, Reparación, Mantenimiento y Conservación
B32: Servicios de Comunicación Social y Publicidad.
B33: Servicios de Traslado y Viáticos
B34: Servicios Oficiales
B35: Otros Servicios Generales
A36: Transferencias, Asignaciones, Subsidios y Otras Ayudas
B37: Transferencias Internas y Asignaciones al Sector Público
B38: Transferencias al Resto del Sector Público
B39: Subsidios y Subvenciones | C39: 9000000 | D39: 1000000 | E39: =+D39+C39 -> 10000000 | F39: 3000000 | G39: 3000000 | H39: =+E39-F39 -> 7000000
B40: Ayudas Sociales
...

Sheet Clasif. Administrativa
A1: FIDEICOMISO PARA EL CUIDADO DEL AGUA EN EL MUNICIPIO DE CHIHUAHUA
A2: Estado Analítico del Ejercicio del Presupuesto de Egresos
A3: Clasificación Administrativa
A4: Del 1 de Enero al 30 de Septiembre de 2019
A6: Concepto | B6: Egresos | G6: Subejercicio
B7: Aprobado | C7: Ampliaciones/ (Reducciones) | D7: Modificado | E7: Devengado | F7: Pagado
B8: 1 | C8: 2 | D8: 3 = (1 + 2 ) | E8: 4 | F8: 5 | G8: 6 = ( 3 - 4 )
A10: DESARROLLO RURAL | B10: 9000000 | C10: 1000000 | D10: =+C10+B10 -> 10000000 | E10: 3000000 | F10: 3000000 | G10: =+D10-E10 -> 7000000
A19: Total del Gasto | B19: =SUM(B9:B18) -> 9000000 | C19: =SUM(C9:C18) -> 1000000 | D19: =SUM(D9:D18) -> 10000000 | E19: =SUM(E9:E18) -> 3000000 | F19: =SUM(F9:F18) -> 3000000 | G19: =SUM(G9:G18) -> 7000000
A22: "Bajo protesta de decir verdad declaramos que los estados financieros y sus notas son razonablemente correctos y son reponsabilidad del emisor"

Sheet Clasif. Economica
A1: FIDEICOMISO PARA EL CUIDADO DEL AGUA EN EL MUNICIPIO DE CHIHUAHUA
A2: Estado Analítico del Ejercicio del Presupuesto de Egresos
A3: Clasificación Económica (por Tipo de Gasto)
A4: Del 1 de Enero al 30 de Septiembre de 2019
A5: Concepto | C5: Egresos | H5: Subejercicio
C6: Aprobado | D6: Ampliaciones/ (Reducciones) | E6: Modificado | F6: Devengado | G6: Pagado
C7: 1 | D7: 2 | E7: 3 = (1 + 2 ) | F7: 4 | G7: 5 | H7: 6 = ( 3 - 4 )
B9: Gasto Corriente | F9: =+'Saldos Ctas'!G45 -> 100046.03 | G9: =+F9 -> 100046.03 | H9: =+E9-F9 -> -100046.03
B11: Gasto de Capital | C11: 9000000 | D11: 1000000 | E11: =+D11+C11 -> 10000000 | F11: 3000000 | G11: 3000000 | H11: =+E11-F11 -> 7000000
B13: Amortización de la Deuda y Disminución de Pasivos
B15: Pensiones y Jubilaciones
B17: Participaciones
B19: Total del Gasto | C19: =SUM(C8:C18) -> 9000000 | D19: =SUM(D8:D18) -> 1000000 | E19: =SUM(E8:E18) -> 10000000 | F19: =SUM(F8:F18) -> 3100046 | G19: =SUM(G8:G18) -> 3100046 | H19: =SUM(H8:H18) -> 6899954
A22: "Bajo protesta de decir verdad declaramos que los estados financieros y sus notas son razonablemente correctos y son reponsabilidad del emisor"

Sheet Clasif. Funcional
A1: FIDEICOMISO PARA EL CUIDADO DEL AGUA EN EL MUNICIPIO DE CHIHUAHUA
A2: Estado Analítico del Ejercicio del Presupuesto de Egresos
A3: Clasificación Funcional (Finalidad y Función)
A4: Del 1 de Enero al 30 de Septiembre de 2019
A5: Concepto | C5: Egresos | H5: Subejercicio
C6: Aprobado | D6: Ampliaciones/ (Reducciones) | E6: Modificado | F6: Devengado | G6: Pagado
C7: 1 | D7: 2 | E7: 3 = (1 + 2 ) | F7: 4 | G7: 5 | H7: 6 = ( 3 - 4 )
A9: GOBIERNO | C9: 9000000 | D9: 1000000 | E9: =+D9+C9 -> 10000000 | F9: 3000000 | G9: 3000000 | H9: =+E9-F9 -> 7000000
B12: Total del Gasto | C12: =SUM(C8:C11) -> 9000000 | D12: =SUM(D8:D11) -> 1000000 | E12: =SUM(E8:E11) -> 10000000 | F12: =SUM(F8:F11) -> 3000000 | G12: =SUM(G8:G11) -> 3000000 | H12: =SUM(H8:H11) -> 7000000
A15: "Bajo protesta de decir verdad declaramos que los estados financieros y sus notas son razonablemente correctos y son reponsabilidad del emisor"
